BEGIN:VCALENDAR
VERSION:2.0
PRODID:-//LICHTENSTEIN Handelsberatung - ECPv6.10.3//NONSGML v1.0//EN
CALSCALE:GREGORIAN
METHOD:PUBLISH
X-ORIGINAL-URL:https://li-handelsberatung.de
X-WR-CALDESC:Veranstaltungen für LICHTENSTEIN Handelsberatung
REFRESH-INTERVAL;VALUE=DURATION:PT1H
X-Robots-Tag:noindex
X-PUBLISHED-TTL:PT1H
BEGIN:VTIMEZONE
TZID:Europe/Berlin
BEGIN:DAYLIGHT
TZOFFSETFROM:+0100
TZOFFSETTO:+0200
TZNAME:CEST
DTSTART:20260329T010000
END:DAYLIGHT
BEGIN:STANDARD
TZOFFSETFROM:+0200
TZOFFSETTO:+0100
TZNAME:CET
DTSTART:20261025T010000
END:STANDARD
END:VTIMEZONE
BEGIN:VEVENT
DTSTART;TZID=Europe/Berlin:20260506T184500
DTEND;TZID=Europe/Berlin:20260506T200000
DTSTAMP:20260422T140358
CREATED:20260321T162321Z
LAST-MODIFIED:20260321T162504Z
UID:9513-1778093100-1778097600@li-handelsberatung.de
SUMMARY:Workshop | Thema "Sind wir morgen noch relevant?"
DESCRIPTION:Geschäftsmodelle verstehen\, visualisieren und innovieren \nMärkte verändern sich schneller denn je. Was heute funktioniert\, kann morgen schon überholt sein. Genau hier setzt dieser Workshop an. \nEin zukunftsfähiges Geschäftsmodell ist kein Zufall. Es ist das Ergebnis klarer Strukturen\, fundierter Entscheidungen und eines echten Verständnisses für den Kunden. Doch viele Unternehmen arbeiten mit gewachsenen Modellen\, die nie bewusst hinterfragt wurden. \nIn diesem Workshop zeige ich dir\, wie du dein Geschäftsmodell sichtbar machst\, hinterfragst und gezielt weiterentwickelst. Im Mittelpunkt steht das Business Model Canvas. Ein einfaches\, aber wirkungsvolles Werkzeug\, das Klarheit schafft. Du erkennst Zusammenhänge\, verstehst deinen Kundennutzen besser und entwickelst konkrete Ansatzpunkte für Innovation. \nBesonders wertvoll: Es bleibt nicht bei der Theorie. Du arbeitest an echten Fragestellungen aus deinem Unternehmen. Du entwickelst Szenarien\, prüfst Optionen und gewinnst Sicherheit für strategische Entscheidungen. \nDas nimmst du mit: \n\nKlarheit über die 9 Bausteine deines Geschäftsmodells\nEin geschärftes Verständnis für deinen Kundennutzen\nKonkrete Ansätze zur Weiterentwicklung deines Angebots\nWerkzeuge\, die du direkt im Alltag einsetzen kannst\n\nDer Workshop richtet sich an Unternehmer\, Geschäftsführer und Entscheider\, die ihr Unternehmen aktiv gestalten wollen – nicht erst reagieren\, wenn es zu spät ist. \nDenn die entscheidende Frage ist nicht\, ob sich Märkte verändern.Sondern: Wie gut bist du darauf vorbereitet? \nReferent: Stephan Lichtenstein\nStart: 18.00 Uhr\nOrt: IHK Zwickau\, Äußere Schneeberger Str. 34\, 08056 Zwickau – Raum 101 \nAnmeldung zur Veranstaltung über die Wirtschaftsjunioren Zwickau:\nbis 4. Mai 2026 \nzur Anmeldung
URL:https://li-handelsberatung.de/veranstaltungstermin/workshop-thema-sind-wir-morgen-noch-relevant/
CATEGORIES:Workshop
ATTACH;FMTTYPE=image/png:https://li-handelsberatung.de/wp-content/uploads/2026/03/05.05.26-Workshop-Stephan-Lichtenstein-WJ-Zwickau.png
END:VEVENT
BEGIN:VEVENT
DTSTART;TZID=Europe/Berlin:20260525T190000
DTEND;TZID=Europe/Berlin:20260525T210000
DTSTAMP:20260422T140358
CREATED:20260321T141856Z
LAST-MODIFIED:20260321T141904Z
UID:9509-1779735600-1779742800@li-handelsberatung.de
SUMMARY:Workshop | Mit Wunschkunden zum Erfolg: Zielkunden systematisch identifizieren und verstehen!
DESCRIPTION:Unternehmenspositionierung\, Kundensegmentierung\, Customer Journey\, Persona\, Kunden-Attraktivität\nDie klare Definition des Zielkunden ist ein zentraler Erfolgsfaktor für nachhaltiges Wachstum. Ohne ein fundiertes Verständnis von Bedürfnissen\, Entscheidungslogiken und Herausforderungen der Kunden besteht die Gefahr\, Marktpotenziale zu verfehlen und Vertriebsressourcen ineffizient einzusetzen. Im Workshop werden attraktive Kundengruppen systematisch bewertet und Zielkunden klar definiert. Mithilfe von Instrumenten wie Persona\, Customer Journey und Attraktivitätsmatrix entsteht ein fundiertes Bild der Kundenbedeutung und -bedürfnisse für den Unternehmenserfolg. Ergebnis: höhere Kundenzufriedenheit und stärkere Kundenbindung\, Eröffnung neuer Marktpotenziale. \nInhalte \n\nBewertung der Attraktivität verschiedener Kundengruppen\nDefinition von Zielkunden\nBeschreibung und Visualisierung des Wunschkunden mittels Persona\nAnalyse der Kundenbedürfnisse entlang der Customer Journey\n\nPraxisnah: Beispiele & Übungen \nReferent:\nStephan Lichtenstein \nOrt: wird noch bekannt gegeben \nVerbindliche Anmeldung:\nbis 24. Mai 2026\nper Mail an pr@wamm-abg.de unter Angabe von \n\nVorname\, Name\nUnternehmen
URL:https://li-handelsberatung.de/veranstaltungstermin/impulsvortrag-wunschkunden-finden-und-zielkunden-richtig-definieren/
CATEGORIES:Workshop
ATTACH;FMTTYPE=image/jpeg:https://li-handelsberatung.de/wp-content/uploads/2026/03/WAMM-Mai-Stephan.jpg
ORGANIZER;CN="WAMM e.V.":MAILTO:pr@wamm-abg.de
END:VEVENT
BEGIN:VEVENT
DTSTART;TZID=Europe/Berlin:20261007T183000
DTEND;TZID=Europe/Berlin:20261007T200000
DTSTAMP:20260422T140358
CREATED:20260321T171628Z
LAST-MODIFIED:20260321T171628Z
UID:9520-1791397800-1791403200@li-handelsberatung.de
SUMMARY:Vortrag | Krisen sind keine Zufälle – Warnsignale erkennen und Chancen nutzen
DESCRIPTION:Unternehmenskrisen entstehen selten über Nacht. Sie entwickeln sich schrittweise\, oft unbemerkt. Erste Warnsignale sind da\, doch sie werden übersehen oder falsch eingeordnet. Genau hier setzt dieser Vortrag an. \nSie erfahren\, wie Sie kritische Entwicklungen frühzeitig erkennen und richtig bewerten. Denn je früher Sie handeln\, desto größer bleibt Ihr Handlungsspielraum. Und desto besser schützen Sie Ihr Unternehmen. \nIm Fokus stehen klare\, praxisnahe Ansätze. Sie lernen\, mit welchen Indikatoren sich Risiken sichtbar machen lassen. Sie verstehen\, wie Krisen typischerweise verlaufen und an welchen Punkten Sie gezielt eingreifen können. Außerdem erhalten Sie konkrete Werkzeuge\, um ein wirksames Frühwarnsystem in Ihrem Unternehmen aufzubauen. \nEin besonderer Blick gilt auch den rechtlichen Anforderungen und der Verantwortung der Geschäftsführung. Denn fehlende Transparenz kann schnell zu persönlichen Risiken führen. \nDas Ziel ist klar: mehr Sicherheit in Entscheidungen. Mehr Stabilität im Unternehmen. Und die Fähigkeit\, aus schwierigen Situationen echte Chancen zu entwickeln. \nDer Vortrag richtet sich an Unternehmer\, Geschäftsführer und Entscheider\, die Verantwortung tragen und ihr Unternehmen aktiv steuern wollen. \nSie gehen nicht nur mit neuem Wissen.\nSie gehen mit Klarheit.\nUnd mit konkreten nächsten Schritten. \n  \nReferent: Stephan Lichtenstein\nStart: 18.30 Uhr\nOrt: IHK Zwickau\, Äußere Schneeberger Str. 34\, 08056 Zwickau – Raum 101 \nAnmeldung zur Veranstaltung über die Wirtschaftsjunioren Zwickau:\nbis 6. Oktober 2026
URL:https://li-handelsberatung.de/veranstaltungstermin/krisenerkennung-im-unternehmen/
CATEGORIES:Vortrag
END:VEVENT
END:VCALENDAR