BEGIN:VCALENDAR
VERSION:2.0
PRODID:-//LICHTENSTEIN Handelsberatung - ECPv6.10.3//NONSGML v1.0//EN
CALSCALE:GREGORIAN
METHOD:PUBLISH
X-WR-CALNAME:LICHTENSTEIN Handelsberatung
X-ORIGINAL-URL:https://li-handelsberatung.de
X-WR-CALDESC:Veranstaltungen für LICHTENSTEIN Handelsberatung
REFRESH-INTERVAL;VALUE=DURATION:PT1H
X-Robots-Tag:noindex
X-PUBLISHED-TTL:PT1H
BEGIN:VTIMEZONE
TZID:Europe/Berlin
BEGIN:DAYLIGHT
TZOFFSETFROM:+0100
TZOFFSETTO:+0200
TZNAME:CEST
DTSTART:20260329T010000
END:DAYLIGHT
BEGIN:STANDARD
TZOFFSETFROM:+0200
TZOFFSETTO:+0100
TZNAME:CET
DTSTART:20261025T010000
END:STANDARD
END:VTIMEZONE
BEGIN:VEVENT
DTSTART;TZID=Europe/Berlin:20260324T190000
DTEND;TZID=Europe/Berlin:20260324T210000
DTSTAMP:20260424T123733
CREATED:20260228T123212Z
LAST-MODIFIED:20260228T123212Z
UID:9499-1774378800-1774386000@li-handelsberatung.de
SUMMARY:Impulsvortrag | Gute Frage: Die Wahrheit erfragen\, auch wenn alle lügen!
DESCRIPTION:Kundenbefragung\, Einwandbehandlung\, Kundennutzen und -schmerzen\nIn Gesprächen\, Verhandlungen und Meetings ist die Fähigkeit\, die richtigen Fragen zu stellen\, entscheidend\, um präzise Informationen zu erhalten. Suggestive Fragen und der Wunsch\, andere nicht zu verletzen\, führen häufig zu Missverständnissen oder sogar zu falschen Aussagen.\nDurch den Einsatz geeigneter Fragetechniken lassen sich gezielt Informationen gewinnen\, Einwände und Vorwände erkennen sowie Gespräche strukturiert und zielgerichtet steuern. Der Workshop vermittelt fundiertes\, praxisnahes Wissen zu wirksamen Fragestellungen\, typischen Fehlerquellen und einer professionellen Gesprächsvorbereitung. Übungen und Praxisbeispiele helfen dabei\, die eigene Kommunikation zu schärfen und auch in komplexen Gesprächssituationen souverän zu agieren. Ergebnis: bessere Verhandlungen\, klarere Aussagen und mehr Kontrolle über den Gesprächsverlauf. \nInhalte: \n\nArten und Kategorien von Fragen\nSystematische Fragetechnik\nGesprächsvorbereitung und Gesprächssteuerung\nHäufige Fehler beim Fragen\nEinwand- und Vorwandbehandlung\n\nPraxisnah: Beispiele & Übungen \nReferent:\nStephan Lichtenstein \nOrt:\nBegegnungsstätte der Volkssolidarität Altenburger Land\, Pappelstraße 56\, 04600 Altenburg \n10€/Teilnehmer für Imbiss und Getränke. \n  \nVerbindliche Anmeldung:\nbis 23. März 2026\nper Mail an pr@wamm-abg.de unter Angabe von \n\nVorname\, Name\nUnternehmen
URL:https://li-handelsberatung.de/veranstaltungstermin/impulsvortrag-fragetechnik-in-altenburg-kundenbefragung-einwandbehandlung-und-gespraechsfuehrung-im-vertrieb/
CATEGORIES:Vortrag
ATTACH;FMTTYPE=image/png:https://li-handelsberatung.de/wp-content/uploads/2026/02/Impulsvortrag-Stephan-Lichtenstein-WAMM-24.03.26.png
ORGANIZER;CN="WAMM e.V.":MAILTO:pr@wamm-abg.de
END:VEVENT
END:VCALENDAR